BEGIN:VCALENDAR
VERSION:2.0
METHOD:PUBLISH
CALSCALE:GREGORIAN
PRODID:-//Refresh Web Development//Helios Calendar//EN
X-FROM-URL:https://www.bayareascience.org/calendar/index.php?com=details&eID=33959
X-WR-RELCALID:BayAreaScience.org International Ocean Film Festival 20230415
X-WR-TIMEZONE:America/New_York
X-WR-CALNAME:BayAreaScience.org
BEGIN:VEVENT
URL;VALUE=URI:https://www.bayareascience.org/calendar/index.php?com=detail&eID=33959
DTSTART;VALUE=DATE:20230415
DTEND;VALUE=DATE:20230416
SUMMARY:International Ocean Film Festival
DESCRIPTION:The 20th annual Internation Ocean Film Festival is dedicated to using film as a medium to increase public awareness of the environmental\, social\, and cultural...\n______________________________\nThis Event Downloaded From a Helios Calendar Powered Site
LOCATION:Cowell Theater - Fort Mason Center 2 Marina Blvd\, San Francisco\, CA USA 94109
CATEGORIES:BayAreaScience.org Events
PRIORITY:0
TRANSP:TRANSPARENT
END:VEVENT
END:VCALENDAR