BEGIN:VCALENDAR
VERSION:2.0
METHOD:PUBLISH
CALSCALE:GREGORIAN
PRODID:-//Refresh Web Development//Helios Calendar//EN
X-FROM-URL:https://www.bayareascience.org/calendar/index.php?com=details&eID=33961
X-WR-RELCALID:BayAreaScience.org Global AI: Reframing the Conversation - Livestream 20230413T090000
X-WR-TIMEZONE:America/New_York
X-WR-CALNAME:BayAreaScience.org
BEGIN:VEVENT
URL;VALUE=URI:https://www.bayareascience.org/calendar/index.php?com=detail&eID=33961
DTSTART:20230413T090000
DTEND:20230413T120000
SUMMARY:Global AI: Reframing the Conversation - Livestream
DESCRIPTION:This event will showcase diverse perspectives on human-centered AI with a focus on decolonial values\, AI innovation that centers underrepresented languages in technology development\, and the use...\n______________________________\nThis Event Downloaded From a Helios Calendar Powered Site
LOCATION:Stanford University -  \, \, CA  
CATEGORIES:BayAreaScience.org Events
PRIORITY:0
TRANSP:TRANSPARENT
END:VEVENT
END:VCALENDAR