BEGIN:VCALENDAR
VERSION:2.0
METHOD:PUBLISH
CALSCALE:GREGORIAN
PRODID:-//Refresh Web Development//Helios Calendar//EN
X-FROM-URL:https://www.bayareascience.org/calendar/index.php?com=details&eID=33963
X-WR-RELCALID:BayAreaScience.org Coyote Valley Earth Day Celebration! 20230422T100000
X-WR-TIMEZONE:America/New_York
X-WR-CALNAME:BayAreaScience.org
BEGIN:VEVENT
URL;VALUE=URI:https://www.bayareascience.org/calendar/index.php?com=detail&eID=33963
DTSTART:20230422T100000
DTEND:20230422T140000
SUMMARY:Coyote Valley Earth Day Celebration!
DESCRIPTION:This Earth Day\, celebrate with us at Spreckels Hill for this free special event for the whole community.During this celebration you can enjoy family-friendly crafts\, games\, and an opportunity...\n______________________________\nThis Event Downloaded From a Helios Calendar Powered Site
LOCATION:Spreckles Hill - 9036 Santa Teresa Blvd \, San Jose\, CA  95141
CATEGORIES:BayAreaScience.org Events
PRIORITY:0
TRANSP:TRANSPARENT
END:VEVENT
END:VCALENDAR