BEGIN:VCALENDAR
VERSION:2.0
METHOD:PUBLISH
CALSCALE:GREGORIAN
PRODID:-//Refresh Web Development//Helios Calendar//EN
X-FROM-URL:https://www.bayareascience.org/calendar/index.php?com=details&eID=33967
X-WR-RELCALID:BayAreaScience.org Dissecting Generative-AI Hype: Revolution, Retrogression or Something Else? 20230412T170000
X-WR-TIMEZONE:America/New_York
X-WR-CALNAME:BayAreaScience.org
BEGIN:VEVENT
URL;VALUE=URI:https://www.bayareascience.org/calendar/index.php?com=detail&eID=33967
DTSTART:20230412T170000
DTEND:20230412T190000
SUMMARY:Dissecting Generative-AI Hype: Revolution\, Retrogression or Something Else?
DESCRIPTION:A lot has been made of artificial intelligence but the question remains: is it a net good or something to be wary of? Join the conversation!We now live in...\n______________________________\nThis Event Downloaded From a Helios Calendar Powered Site
LOCATION:Manny's - 3092 16th St \, San Francisco\, CA  94103
CATEGORIES:BayAreaScience.org Events
PRIORITY:0
TRANSP:TRANSPARENT
END:VEVENT
END:VCALENDAR