BEGIN:VCALENDAR
VERSION:2.0
METHOD:PUBLISH
CALSCALE:GREGORIAN
PRODID:-//Refresh Web Development//Helios Calendar//EN
X-FROM-URL:https://www.bayareascience.org/calendar/index.php?com=details&eID=33972
X-WR-RELCALID:BayAreaScience.org Technology and Diplomacy: The Rise of Multilateralism in the Bay Area 20230413T173000
X-WR-TIMEZONE:America/New_York
X-WR-CALNAME:BayAreaScience.org
BEGIN:VEVENT
URL;VALUE=URI:https://www.bayareascience.org/calendar/index.php?com=detail&eID=33972
DTSTART:20230413T173000
DTEND:20230413T203000
SUMMARY:Technology and Diplomacy: The Rise of Multilateralism in the Bay Area
DESCRIPTION:We will explore the practice of tech diplomacy and the impacts of geopolitics\, the opportunities and challenges it represents both for diplomatic representations and tech companies\, and their mutual...\n______________________________\nThis Event Downloaded From a Helios Calendar Powered Site
LOCATION:swissnex San Francisco - The Embarcadero Pier 17\, Suite 800\, San Francisco\, CA  94111
CATEGORIES:BayAreaScience.org Events
PRIORITY:0
TRANSP:TRANSPARENT
END:VEVENT
END:VCALENDAR