BEGIN:VCALENDAR
VERSION:2.0
METHOD:PUBLISH
CALSCALE:GREGORIAN
PRODID:-//Refresh Web Development//Helios Calendar//EN
X-FROM-URL:https://www.bayareascience.org/calendar/index.php?com=details&eID=33982
X-WR-RELCALID:BayAreaScience.org  Pushing Back Plants: The Invasive Spartina Project - Livestream 20230518T190000
X-WR-TIMEZONE:America/New_York
X-WR-CALNAME:BayAreaScience.org
BEGIN:VEVENT
URL;VALUE=URI:https://www.bayareascience.org/calendar/index.php?com=detail&eID=33982
DTSTART:20230518T190000
DTEND:20230518T190000
SUMMARY: Pushing Back Plants: The Invasive Spartina Project - Livestream
DESCRIPTION:San Francisco Bay is more than just the geographic feature that defines our region\, it is a major global biodiversity hotspot. The largest estuary on the west coast of North America\, it is a critical...\n______________________________\nThis Event Downloaded From a Helios Calendar Powered Site
LOCATION:Golden Gate Audubon Society -  \, \, CA  
CATEGORIES:BayAreaScience.org Events
PRIORITY:0
TRANSP:TRANSPARENT
END:VEVENT
END:VCALENDAR