BEGIN:VCALENDAR
VERSION:2.0
METHOD:PUBLISH
CALSCALE:GREGORIAN
PRODID:-//Refresh Web Development//Helios Calendar//EN
X-FROM-URL:https://www.bayareascience.org/calendar/index.php?com=details&eID=33985
X-WR-RELCALID:BayAreaScience.org  Peninsula Gem & Geology Society 20230426T190000
X-WR-TIMEZONE:America/New_York
X-WR-CALNAME:BayAreaScience.org
BEGIN:VEVENT
URL;VALUE=URI:https://www.bayareascience.org/calendar/index.php?com=detail&eID=33985
DTSTART:20230426T190000
DTEND:20230426T203000
SUMMARY: Peninsula Gem & Geology Society
DESCRIPTION:Neil Delfino will be giving us a presentation on field trips that are near to the Bay Area. These are locations where agates\, jaspers\, magnesite\, agatized magnesite\, and possibly a few other useful...\n______________________________\nThis Event Downloaded From a Helios Calendar Powered Site
LOCATION:Peninsula Gem & Geology Society - 1575 Holt Ave \, Los Altos\, CA  94024
CATEGORIES:BayAreaScience.org Events
PRIORITY:0
TRANSP:TRANSPARENT
END:VEVENT
END:VCALENDAR