BEGIN:VCALENDAR
VERSION:2.0
METHOD:PUBLISH
CALSCALE:GREGORIAN
PRODID:-//Refresh Web Development//Helios Calendar//EN
X-FROM-URL:https://www.bayareascience.org/calendar/index.php?com=details&eID=33990
X-WR-RELCALID:BayAreaScience.org Deception Detection and Social Engineering Attacks - Livestream 20230414T150000
X-WR-TIMEZONE:America/New_York
X-WR-CALNAME:BayAreaScience.org
BEGIN:VEVENT
URL;VALUE=URI:https://www.bayareascience.org/calendar/index.php?com=detail&eID=33990
DTSTART:20230414T150000
DTEND:20230414T160000
SUMMARY:Deception Detection and Social Engineering Attacks - Livestream
DESCRIPTION:Humans are naturally concerned about being deceived\, so having assistance in identifying malicious verbal or nonverbal behaviors that may indicate deception would be extremely beneficial. With...\n______________________________\nThis Event Downloaded From a Helios Calendar Powered Site
LOCATION:San Jose State University -  \, \, CA  
CATEGORIES:BayAreaScience.org Events
PRIORITY:0
TRANSP:TRANSPARENT
END:VEVENT
END:VCALENDAR