BEGIN:VCALENDAR
VERSION:2.0
METHOD:PUBLISH
CALSCALE:GREGORIAN
PRODID:-//Refresh Web Development//Helios Calendar//EN
X-FROM-URL:https://www.bayareascience.org/calendar/index.php?com=details&eID=33992
X-WR-RELCALID:BayAreaScience.org  Innovation in Space and Beyond: Meet former NASA Science Chief Thomas Zurbuchen 20230418T173000
X-WR-TIMEZONE:America/New_York
X-WR-CALNAME:BayAreaScience.org
BEGIN:VEVENT
URL;VALUE=URI:https://www.bayareascience.org/calendar/index.php?com=detail&eID=33992
DTSTART:20230418T173000
DTEND:20230418T203000
SUMMARY: Innovation in Space and Beyond: Meet former NASA Science Chief Thomas Zurbuchen
DESCRIPTION:Join us on April 18\, 2023\, as we welcome Swiss-American astrophysicist Dr. Thomas Zurbuchen\, the former Science Chief at NASA\, for a special talk about the role that teamwork plays in innovation...\n______________________________\nThis Event Downloaded From a Helios Calendar Powered Site
LOCATION:swissnex San Francisco - The Embarcadero Pier 17\, Suite 800\, San Francisco\, CA  94111
CATEGORIES:BayAreaScience.org Events
PRIORITY:0
TRANSP:TRANSPARENT
END:VEVENT
END:VCALENDAR