BEGIN:VCALENDAR
VERSION:2.0
METHOD:PUBLISH
CALSCALE:GREGORIAN
PRODID:-//Refresh Web Development//Helios Calendar//EN
X-FROM-URL:https://www.bayareascience.org/calendar/index.php?com=details&eID=33996
X-WR-RELCALID:BayAreaScience.org Two Talks: Popping the Science Bubble - Livestream 20230418T173000
X-WR-TIMEZONE:America/New_York
X-WR-CALNAME:BayAreaScience.org
BEGIN:VEVENT
URL;VALUE=URI:https://www.bayareascience.org/calendar/index.php?com=detail&eID=33996
DTSTART:20230418T173000
DTEND:20230418T173000
SUMMARY:Two Talks: Popping the Science Bubble - Livestream
DESCRIPTION:Antibiotic Resistance and Intracelular Adaptation of PseudomonasSpeaker: Naren G Kumar\, Optometry & Vision Science\, UC BerkeleyShades of Risk: How Safe...\n______________________________\nThis Event Downloaded From a Helios Calendar Powered Site
LOCATION:Berkeley Public Library -  \, \, CA  
CATEGORIES:BayAreaScience.org Events
PRIORITY:0
TRANSP:TRANSPARENT
END:VEVENT
END:VCALENDAR