BEGIN:VCALENDAR
VERSION:2.0
METHOD:PUBLISH
CALSCALE:GREGORIAN
PRODID:-//Refresh Web Development//Helios Calendar//EN
X-FROM-URL:https://www.bayareascience.org/calendar/index.php?com=details&eID=34010
X-WR-RELCALID:BayAreaScience.org Free National Parks Day 20230804
X-WR-TIMEZONE:America/New_York
X-WR-CALNAME:BayAreaScience.org
BEGIN:VEVENT
URL;VALUE=URI:https://www.bayareascience.org/calendar/index.php?com=detail&eID=34010
DTSTART;VALUE=DATE:20230804
DTEND;VALUE=DATE:20230805
SUMMARY:Free National Parks Day
DESCRIPTION:Admission to most US National Parks is free today\, the anniversary of the Great American Outdoors Act\n______________________________\nThis Event Downloaded From a Helios Calendar Powered Site
LOCATION:Various -  \, \, CA  
CATEGORIES:BayAreaScience.org Events
PRIORITY:0
TRANSP:TRANSPARENT
END:VEVENT
END:VCALENDAR