BEGIN:VCALENDAR
VERSION:2.0
METHOD:PUBLISH
CALSCALE:GREGORIAN
PRODID:-//Refresh Web Development//Helios Calendar//EN
X-FROM-URL:https://www.bayareascience.org/calendar/index.php?com=details&eID=34015
X-WR-RELCALID:BayAreaScience.org Silicon Valley's 'Possible Self' STEAM experiential/Expo  20230429T090000
X-WR-TIMEZONE:America/New_York
X-WR-CALNAME:BayAreaScience.org
BEGIN:VEVENT
URL;VALUE=URI:https://www.bayareascience.org/calendar/index.php?com=detail&eID=34015
DTSTART:20230429T090000
DTEND:20230429T160000
SUMMARY:Silicon Valley's 'Possible Self' STEAM experiential/Expo 
DESCRIPTION:â€œPossible Selfâ€Â is a STEM experiential family event unlike any other.Â The mission of the "Possible Self" experiential is...\n______________________________\nThis Event Downloaded From a Helios Calendar Powered Site
LOCATION:Foothill College - 12345 El Monte Rd \, Los Altos Hills\, CA  94022
CATEGORIES:BayAreaScience.org Events
PRIORITY:0
TRANSP:TRANSPARENT
END:VEVENT
END:VCALENDAR