BEGIN:VCALENDAR
VERSION:2.0
METHOD:PUBLISH
CALSCALE:GREGORIAN
PRODID:-//Refresh Web Development//Helios Calendar//EN
X-FROM-URL:https://www.bayareascience.org/calendar/index.php?com=details&eID=34031
X-WR-RELCALID:BayAreaScience.org Shaded Fuel Break: Lessons Learned Post Wildfire in the San Vicente Redwoods - Livestream 20230425T100000
X-WR-TIMEZONE:America/New_York
X-WR-CALNAME:BayAreaScience.org
BEGIN:VEVENT
URL;VALUE=URI:https://www.bayareascience.org/calendar/index.php?com=detail&eID=34031
DTSTART:20230425T100000
DTEND:20230425T123000
SUMMARY:Shaded Fuel Break: Lessons Learned Post Wildfire in the San Vicente Redwoods - Livestream
DESCRIPTION:What to learn more about how four land trusts implement land conservation and fire resiliency?Â Join a variety of practitioners who come together to manage fuels on...\n______________________________\nThis Event Downloaded From a Helios Calendar Powered Site
LOCATION:Peninsula Open Space Trust -  \, \, CA  
CATEGORIES:BayAreaScience.org Events
PRIORITY:0
TRANSP:TRANSPARENT
END:VEVENT
END:VCALENDAR