BEGIN:VCALENDAR
VERSION:2.0
METHOD:PUBLISH
CALSCALE:GREGORIAN
PRODID:-//Refresh Web Development//Helios Calendar//EN
X-FROM-URL:https://www.bayareascience.org/calendar/index.php?com=details&eID=34033
X-WR-RELCALID:BayAreaScience.org Landscape of Particle Accelerators, Snowmass Planning for Future, and Ultimate Colliders 20230508T153000
X-WR-TIMEZONE:America/New_York
X-WR-CALNAME:BayAreaScience.org
BEGIN:VEVENT
URL;VALUE=URI:https://www.bayareascience.org/calendar/index.php?com=detail&eID=34033
DTSTART:20230508T153000
DTEND:20230508T163000
SUMMARY:Landscape of Particle Accelerators\, Snowmass Planning for Future\, and Ultimate Colliders
DESCRIPTION:For over half a century\, high-energy particle accelerators have been a major enabling technology for particle and nuclear physics research as well as sources of X-rays for photon science research...\n______________________________\nThis Event Downloaded From a Helios Calendar Powered Site
LOCATION:Stanford Linear Accelerator (SLAC) Colloquium Series - 2575 Sand Hill Rd\, Building 51 Kavli Auditorium\, Menlo Park\, CA  94025
CATEGORIES:BayAreaScience.org Events
PRIORITY:0
TRANSP:TRANSPARENT
END:VEVENT
END:VCALENDAR