BEGIN:VCALENDAR
VERSION:2.0
METHOD:PUBLISH
CALSCALE:GREGORIAN
PRODID:-//Refresh Web Development//Helios Calendar//EN
X-FROM-URL:https://www.bayareascience.org/calendar/index.php?com=details&eID=34040
X-WR-RELCALID:BayAreaScience.org Climate and Energy in Africa: What We're Getting Wrong 20230501T100000
X-WR-TIMEZONE:America/New_York
X-WR-CALNAME:BayAreaScience.org
BEGIN:VEVENT
URL;VALUE=URI:https://www.bayareascience.org/calendar/index.php?com=detail&eID=34040
DTSTART:20230501T100000
DTEND:20230501T230000
SUMMARY:Climate and Energy in Africa: What We're Getting Wrong
DESCRIPTION:Via the SDGs and COP\, the world is committed to tackling the big global crises of poverty and climate change. But the policies for fostering net zero emissions\, universal access to energy\, and...\n______________________________\nThis Event Downloaded From a Helios Calendar Powered Site
LOCATION:Encina Hall - Stanford University 616 Jane Stanford Way\, Stanford\, CA  94305
CATEGORIES:BayAreaScience.org Events
PRIORITY:0
TRANSP:TRANSPARENT
END:VEVENT
END:VCALENDAR