BEGIN:VCALENDAR
VERSION:2.0
METHOD:PUBLISH
CALSCALE:GREGORIAN
PRODID:-//Refresh Web Development//Helios Calendar//EN
X-FROM-URL:https://www.bayareascience.org/calendar/index.php?com=details&eID=34044
X-WR-RELCALID:BayAreaScience.org Investigating Pop Psychology: Pseudoscience, Fringe Science, and Controversies - Livestream 20230511T160000
X-WR-TIMEZONE:America/New_York
X-WR-CALNAME:BayAreaScience.org
BEGIN:VEVENT
URL;VALUE=URI:https://www.bayareascience.org/calendar/index.php?com=detail&eID=34044
DTSTART:20230511T160000
DTEND:20230511T160000
SUMMARY:Investigating Pop Psychology: Pseudoscience\, Fringe Science\, and Controversies - Livestream
DESCRIPTION:Science-based advances in the field of psychology continue to grow at an impressive rate\; however\, even more claims in psychology have little-to-no research support. What does it mean for a mental...\n______________________________\nThis Event Downloaded From a Helios Calendar Powered Site
LOCATION:Skeptical Inquirer -  \, \, CA  
CATEGORIES:BayAreaScience.org Events
PRIORITY:0
TRANSP:TRANSPARENT
END:VEVENT
END:VCALENDAR