BEGIN:VCALENDAR
VERSION:2.0
METHOD:PUBLISH
CALSCALE:GREGORIAN
PRODID:-//Refresh Web Development//Helios Calendar//EN
X-FROM-URL:https://www.bayareascience.org/calendar/index.php?com=details&eID=34045
X-WR-RELCALID:BayAreaScience.org Harnessing Our Greatest Life Force - Livestream 20230525T180000
X-WR-TIMEZONE:America/New_York
X-WR-CALNAME:BayAreaScience.org
BEGIN:VEVENT
URL;VALUE=URI:https://www.bayareascience.org/calendar/index.php?com=detail&eID=34045
DTSTART:20230525T180000
DTEND:20230525T193000
SUMMARY:Harnessing Our Greatest Life Force - Livestream
DESCRIPTION:Swim with us through water data for the nation.Learn how to:Explore all USGS water data\, from historical through present dayCheck the status of near real-time water...\n______________________________\nThis Event Downloaded From a Helios Calendar Powered Site
LOCATION:US Geological Survey Public Lecture Series -  \, \, CA  
CATEGORIES:BayAreaScience.org Events
PRIORITY:0
TRANSP:TRANSPARENT
END:VEVENT
END:VCALENDAR