BEGIN:VCALENDAR
VERSION:2.0
METHOD:PUBLISH
CALSCALE:GREGORIAN
PRODID:-//Refresh Web Development//Helios Calendar//EN
X-FROM-URL:https://www.bayareascience.org/calendar/index.php?com=details&eID=34050
X-WR-RELCALID:BayAreaScience.org Observations of turbulent dissipation in the coastal ocean from an autonomous underwater vehicle 20230508T123000
X-WR-TIMEZONE:America/New_York
X-WR-CALNAME:BayAreaScience.org
BEGIN:VEVENT
URL;VALUE=URI:https://www.bayareascience.org/calendar/index.php?com=detail&eID=34050
DTSTART:20230508T123000
DTEND:20230508T133000
SUMMARY:Observations of turbulent dissipation in the coastal ocean from an autonomous underwater vehicle
DESCRIPTION:The location and intensity of mixing in the worldâ€™s oceans is a fundamental topic of modernÂ oceanography\, yet theÂ range of dynamical scales in oceanic flows has challenged efforts...\n______________________________\nThis Event Downloaded From a Helios Calendar Powered Site
LOCATION:Environment and Energy Building (Y2E2) - Stanford University Room 111\, Stanford\, CA  94305
CATEGORIES:BayAreaScience.org Events
PRIORITY:0
TRANSP:TRANSPARENT
END:VEVENT
END:VCALENDAR