BEGIN:VCALENDAR
VERSION:2.0
METHOD:PUBLISH
CALSCALE:GREGORIAN
PRODID:-//Refresh Web Development//Helios Calendar//EN
X-FROM-URL:https://www.bayareascience.org/calendar/index.php?com=details&eID=34057
X-WR-RELCALID:BayAreaScience.org Finding Joy & Justice in the Outdoors: Special Event with NatGeo Explorer James Edward Mills 20230521T150000
X-WR-TIMEZONE:America/New_York
X-WR-CALNAME:BayAreaScience.org
BEGIN:VEVENT
URL;VALUE=URI:https://www.bayareascience.org/calendar/index.php?com=detail&eID=34057
DTSTART:20230521T150000
DTEND:20230521T150000
SUMMARY:Finding Joy & Justice in the Outdoors: Special Event with NatGeo Explorer James Edward Mills
DESCRIPTION:\n______________________________\nThis Event Downloaded From a Helios Calendar Powered Site
LOCATION:Hillsdale High School - 611 31st Ave \, San Mateo\, CA  94403
CATEGORIES:BayAreaScience.org Events
PRIORITY:0
TRANSP:TRANSPARENT
END:VEVENT
END:VCALENDAR