BEGIN:VCALENDAR
VERSION:2.0
METHOD:PUBLISH
CALSCALE:GREGORIAN
PRODID:-//Refresh Web Development//Helios Calendar//EN
X-FROM-URL:https://www.bayareascience.org/calendar/index.php?com=details&eID=34059
X-WR-RELCALID:BayAreaScience.org Destination: Moon - Livestream 20230523T180000
X-WR-TIMEZONE:America/New_York
X-WR-CALNAME:BayAreaScience.org
BEGIN:VEVENT
URL;VALUE=URI:https://www.bayareascience.org/calendar/index.php?com=detail&eID=34059
DTSTART:20230523T180000
DTEND:20230523T180000
SUMMARY:Destination: Moon - Livestream
DESCRIPTION:The Artemis missions will include a mix of crewed and robotic landings. Thirteen regions near the South Pole of the Moon have been identified as candidates for human exploration. Some of these...\n______________________________\nThis Event Downloaded From a Helios Calendar Powered Site
LOCATION:Night Sky Network -  \, \, CA  
CATEGORIES:BayAreaScience.org Events
PRIORITY:0
TRANSP:TRANSPARENT
END:VEVENT
END:VCALENDAR