BEGIN:VCALENDAR
VERSION:2.0
METHOD:PUBLISH
CALSCALE:GREGORIAN
PRODID:-//Refresh Web Development//Helios Calendar//EN
X-FROM-URL:https://www.bayareascience.org/calendar/index.php?com=details&eID=34061
X-WR-RELCALID:BayAreaScience.org Dark Matter: Our Universe's Worst-Kept Secret (and why it still bewilders us) 20230511T190000
X-WR-TIMEZONE:America/New_York
X-WR-CALNAME:BayAreaScience.org
BEGIN:VEVENT
URL;VALUE=URI:https://www.bayareascience.org/calendar/index.php?com=detail&eID=34061
DTSTART:20230511T190000
DTEND:20230511T190000
SUMMARY:Dark Matter: Our Universe's Worst-Kept Secret (and why it still bewilders us)
DESCRIPTION:Speaker: Dr. Jelle Aalbers\, Stanford University\n______________________________\nThis Event Downloaded From a Helios Calendar Powered Site
LOCATION:Los Altos Public Library - 13 S San Antonio Rd Peninsula Astronomical Society\, Los Altos\, CA  94022
CATEGORIES:BayAreaScience.org Events
PRIORITY:0
TRANSP:TRANSPARENT
END:VEVENT
END:VCALENDAR