BEGIN:VCALENDAR
VERSION:2.0
METHOD:PUBLISH
CALSCALE:GREGORIAN
PRODID:-//Refresh Web Development//Helios Calendar//EN
X-FROM-URL:https://www.bayareascience.org/calendar/index.php?com=details&eID=34062
X-WR-RELCALID:BayAreaScience.org Easy Morning Walk at Wavecrest 20230520T100000
X-WR-TIMEZONE:America/New_York
X-WR-CALNAME:BayAreaScience.org
BEGIN:VEVENT
URL;VALUE=URI:https://www.bayareascience.org/calendar/index.php?com=detail&eID=34062
DTSTART:20230520T100000
DTEND:20230520T120000
SUMMARY:Easy Morning Walk at Wavecrest
DESCRIPTION:Enjoy a refreshing morning hike along the bluffs of the Wavecrest Trail! This family-friendly hike is an easy 2-mile walk and great for all ages and levels of hikers.This serene space is...\n______________________________\nThis Event Downloaded From a Helios Calendar Powered Site
LOCATION:Wavecrest Open Space Preserve - Thorne Ave \, Half Moon Bay\, CA  94019
CATEGORIES:BayAreaScience.org Events
PRIORITY:0
TRANSP:TRANSPARENT
END:VEVENT
END:VCALENDAR