BEGIN:VCALENDAR
VERSION:2.0
METHOD:PUBLISH
CALSCALE:GREGORIAN
PRODID:-//Refresh Web Development//Helios Calendar//EN
X-FROM-URL:https://www.bayareascience.org/calendar/index.php?com=details&eID=34064
X-WR-RELCALID:BayAreaScience.org Submarine Volcanic Eruptions 20230511T120000
X-WR-TIMEZONE:America/New_York
X-WR-CALNAME:BayAreaScience.org
BEGIN:VEVENT
URL;VALUE=URI:https://www.bayareascience.org/calendar/index.php?com=detail&eID=34064
DTSTART:20230511T120000
DTEND:20230511T130000
SUMMARY:Submarine Volcanic Eruptions
DESCRIPTION:Most submarine volcanic eruptions occur without being detected. When do record them\,we find that submarine volcanoes erupt quite differently from volcanoes on land. I will summarize some of what...\n______________________________\nThis Event Downloaded From a Helios Calendar Powered Site
LOCATION:Mitchell Earth Sciences Building (04-560) - 397 Panama Mall Stanford University\, Stanford\, CA  94305
CATEGORIES:BayAreaScience.org Events
PRIORITY:0
TRANSP:TRANSPARENT
END:VEVENT
END:VCALENDAR