BEGIN:VCALENDAR
VERSION:2.0
METHOD:PUBLISH
CALSCALE:GREGORIAN
PRODID:-//Refresh Web Development//Helios Calendar//EN
X-FROM-URL:https://www.bayareascience.org/calendar/index.php?com=details&eID=34067
X-WR-RELCALID:BayAreaScience.org  InVADER Mission Conducts Deep-Sea Test - Livestream 20230511T143000
X-WR-TIMEZONE:America/New_York
X-WR-CALNAME:BayAreaScience.org
BEGIN:VEVENT
URL;VALUE=URI:https://www.bayareascience.org/calendar/index.php?com=detail&eID=34067
DTSTART:20230511T143000
DTEND:20230511T150000
SUMMARY: InVADER Mission Conducts Deep-Sea Test - Livestream
DESCRIPTION:A team of scientists and engineers from the SETI Institute\, Impossible Sensing\, NASA JPL\, and other institutions will test their innovative robotic laser system on a deep-sea expedition aboard...\n______________________________\nThis Event Downloaded From a Helios Calendar Powered Site
LOCATION:SETI Institute -  \, \, CA  
CATEGORIES:BayAreaScience.org Events
PRIORITY:0
TRANSP:TRANSPARENT
END:VEVENT
END:VCALENDAR