BEGIN:VCALENDAR
VERSION:2.0
METHOD:PUBLISH
CALSCALE:GREGORIAN
PRODID:-//Refresh Web Development//Helios Calendar//EN
X-FROM-URL:https://www.bayareascience.org/calendar/index.php?com=details&eID=34068
X-WR-RELCALID:BayAreaScience.org  Faster! Catching up to Electrons on the Move - POSTPONED 20230525T190000
X-WR-TIMEZONE:America/New_York
X-WR-CALNAME:BayAreaScience.org
BEGIN:VEVENT
URL;VALUE=URI:https://www.bayareascience.org/calendar/index.php?com=detail&eID=34068
DTSTART:20230525T190000
DTEND:20230525T200000
SUMMARY: Faster! Catching up to Electrons on the Move - POSTPONED
DESCRIPTION:Electrons are tiny particles that hold together the atoms in molecules. When sunlight interacts with a molecule\, it first transfers its energy to the electrons.Â  Then\, as the electrons move\,...\n______________________________\nThis Event Downloaded From a Helios Calendar Powered Site
LOCATION:Stanford Linear Accelerator (SLAC) Public Lecture Series - 2575 Sand Hill Road\, Building 51 Kavli Auditorium\, Menlo Park\, CA  94025
CATEGORIES:BayAreaScience.org Events
PRIORITY:0
TRANSP:TRANSPARENT
END:VEVENT
END:VCALENDAR