BEGIN:VCALENDAR
VERSION:2.0
METHOD:PUBLISH
CALSCALE:GREGORIAN
PRODID:-//Refresh Web Development//Helios Calendar//EN
X-FROM-URL:https://www.bayareascience.org/calendar/index.php?com=details&eID=34071
X-WR-RELCALID:BayAreaScience.org Large eddy simulations of wind turbine and wind farm wakes 20230515T123000
X-WR-TIMEZONE:America/New_York
X-WR-CALNAME:BayAreaScience.org
BEGIN:VEVENT
URL;VALUE=URI:https://www.bayareascience.org/calendar/index.php?com=detail&eID=34071
DTSTART:20230515T123000
DTEND:20230515T133000
SUMMARY:Large eddy simulations of wind turbine and wind farm wakes
DESCRIPTION:With the continuing growth in wind energy\, the ability to accurately predict wind turbine and farm wakes\, including their interactions with the surrounding atmosphere and neighboring sites\, is...\n______________________________\nThis Event Downloaded From a Helios Calendar Powered Site
LOCATION:Environment and Energy Building (Y2E2) - Stanford University Room 111\, Stanford\, CA  94305
CATEGORIES:BayAreaScience.org Events
PRIORITY:0
TRANSP:TRANSPARENT
END:VEVENT
END:VCALENDAR