BEGIN:VCALENDAR
VERSION:2.0
METHOD:PUBLISH
CALSCALE:GREGORIAN
PRODID:-//Refresh Web Development//Helios Calendar//EN
X-FROM-URL:https://www.bayareascience.org/calendar/index.php?com=details&eID=34072
X-WR-RELCALID:BayAreaScience.org Improbable Research and the Ig Nobel Prizes - Livestream 20230608T193000
X-WR-TIMEZONE:America/New_York
X-WR-CALNAME:BayAreaScience.org
BEGIN:VEVENT
URL;VALUE=URI:https://www.bayareascience.org/calendar/index.php?com=detail&eID=34072
DTSTART:20230608T193000
DTEND:20230608T193000
SUMMARY:Improbable Research and the Ig Nobel Prizes - Livestream
DESCRIPTION:The Ig Nobel Prizes honor achievements that make people LAUGH\, then THINK. Ten new prizes have been awarded every year since 1991. The magazine Annals of Improbable Research organizes the Ig Nobel...\n______________________________\nThis Event Downloaded From a Helios Calendar Powered Site
LOCATION:Bay Area Skeptics -  \, \, CA  
CATEGORIES:BayAreaScience.org Events
PRIORITY:0
TRANSP:TRANSPARENT
END:VEVENT
END:VCALENDAR