BEGIN:VCALENDAR
VERSION:2.0
METHOD:PUBLISH
CALSCALE:GREGORIAN
PRODID:-//Refresh Web Development//Helios Calendar//EN
X-FROM-URL:https://www.bayareascience.org/calendar/index.php?com=details&eID=34073
X-WR-RELCALID:BayAreaScience.org Workshop with Susan Gerbic 20230520T124500
X-WR-TIMEZONE:America/New_York
X-WR-CALNAME:BayAreaScience.org
BEGIN:VEVENT
URL;VALUE=URI:https://www.bayareascience.org/calendar/index.php?com=detail&eID=34073
DTSTART:20230520T124500
DTEND:20230520T141500
SUMMARY:Workshop with Susan Gerbic
DESCRIPTION:Are you having difficult discussions...\n______________________________\nThis Event Downloaded From a Helios Calendar Powered Site
LOCATION:Berkeley Public Library - 2090 Kittredge \, Berkeley\, CA USA 94704
CATEGORIES:BayAreaScience.org Events
PRIORITY:0
TRANSP:TRANSPARENT
END:VEVENT
END:VCALENDAR