BEGIN:VCALENDAR
VERSION:2.0
METHOD:PUBLISH
CALSCALE:GREGORIAN
PRODID:-//Refresh Web Development//Helios Calendar//EN
X-FROM-URL:https://www.bayareascience.org/calendar/index.php?com=details&eID=34082
X-WR-RELCALID:BayAreaScience.org  NASA's New Horizons Mission to Pluto and the Kuiper Belt  20230519T193000
X-WR-TIMEZONE:America/New_York
X-WR-CALNAME:BayAreaScience.org
BEGIN:VEVENT
URL;VALUE=URI:https://www.bayareascience.org/calendar/index.php?com=detail&eID=34082
DTSTART:20230519T193000
DTEND:20230519T193000
SUMMARY: NASA's New Horizons Mission to Pluto and the Kuiper Belt 
DESCRIPTION:With its 2015 flyby and first up-close look at a new class of small icy planet\, the New Horizons mission ushered in a new era of planetary geology for the Pluto system. A second flyby of the small...\n______________________________\nThis Event Downloaded From a Helios Calendar Powered Site
LOCATION:Tri-Valley Stargazers - 1893 N. Vasco Rd Unitarian Universalist Church\, Livermore\, CA  94551
CATEGORIES:BayAreaScience.org Events
PRIORITY:0
TRANSP:TRANSPARENT
END:VEVENT
END:VCALENDAR