BEGIN:VCALENDAR
VERSION:2.0
METHOD:PUBLISH
CALSCALE:GREGORIAN
PRODID:-//Refresh Web Development//Helios Calendar//EN
X-FROM-URL:https://www.bayareascience.org/calendar/index.php?com=details&eID=34084
X-WR-RELCALID:BayAreaScience.org Ethics and Politics of the Energy Transition in Mexico 20230518T123000
X-WR-TIMEZONE:America/New_York
X-WR-CALNAME:BayAreaScience.org
BEGIN:VEVENT
URL;VALUE=URI:https://www.bayareascience.org/calendar/index.php?com=detail&eID=34084
DTSTART:20230518T123000
DTEND:20230518T133000
SUMMARY:Ethics and Politics of the Energy Transition in Mexico
DESCRIPTION:The energy transition is a once-in-a-generation opportunity to scale renewable energy equitably and inclusively. If not done correctly\, it will exacerbate the complex societal and environmental...\n______________________________\nThis Event Downloaded From a Helios Calendar Powered Site
LOCATION:Environment & Energy Building (Y2E2) - Stanford University \, Stanford\, CA  94305
CATEGORIES:BayAreaScience.org Events
PRIORITY:0
TRANSP:TRANSPARENT
END:VEVENT
END:VCALENDAR