BEGIN:VCALENDAR
VERSION:2.0
METHOD:PUBLISH
CALSCALE:GREGORIAN
PRODID:-//Refresh Web Development//Helios Calendar//EN
X-FROM-URL:https://www.bayareascience.org/calendar/index.php?com=details&eID=34091
X-WR-RELCALID:BayAreaScience.org  The Proof Is in the Water: Touring the Silicon Valley Advanced Water Purification Center - SOLD OUT 20230620T123000
X-WR-TIMEZONE:America/New_York
X-WR-CALNAME:BayAreaScience.org
BEGIN:VEVENT
URL;VALUE=URI:https://www.bayareascience.org/calendar/index.php?com=detail&eID=34091
DTSTART:20230620T123000
DTEND:20230620T133000
SUMMARY: The Proof Is in the Water: Touring the Silicon Valley Advanced Water Purification Center - SOLD OUT
DESCRIPTION:As its climate changes\, Northern California will likely experience more frequent and extreme droughts\, punctuated by very wet years. More severe droughts could - but donâ€™t have to - limit...\n______________________________\nThis Event Downloaded From a Helios Calendar Powered Site
LOCATION:Silicon Valley Advanced Water Purification Center - 4190 Zanker Rd \, San Jose\, CA  95134
CATEGORIES:BayAreaScience.org Events
PRIORITY:0
TRANSP:TRANSPARENT
END:VEVENT
END:VCALENDAR