BEGIN:VCALENDAR
VERSION:2.0
METHOD:PUBLISH
CALSCALE:GREGORIAN
PRODID:-//Refresh Web Development//Helios Calendar//EN
X-FROM-URL:https://www.bayareascience.org/calendar/index.php?com=details&eID=34099
X-WR-RELCALID:BayAreaScience.org  Evolving Shorelines Tour 20230522T143000
X-WR-TIMEZONE:America/New_York
X-WR-CALNAME:BayAreaScience.org
BEGIN:VEVENT
URL;VALUE=URI:https://www.bayareascience.org/calendar/index.php?com=detail&eID=34099
DTSTART:20230522T143000
DTEND:20230522T160000
SUMMARY: Evolving Shorelines Tour
DESCRIPTION:Learn about how sea level rise is impacting Bothin Marsh and what One Tam is doing to help. The tour will be led by Evolving Shorelines project staff Rob LaPorte\, Project Manager at the Parks Conservancy...\n______________________________\nThis Event Downloaded From a Helios Calendar Powered Site
LOCATION:Bothin Marsh Preserve - almonte Blvd and Miller Ave \, Mill Valley\, CA  94941
CATEGORIES:BayAreaScience.org Events
PRIORITY:0
TRANSP:TRANSPARENT
END:VEVENT
END:VCALENDAR