BEGIN:VCALENDAR
VERSION:2.0
METHOD:PUBLISH
CALSCALE:GREGORIAN
PRODID:-//Refresh Web Development//Helios Calendar//EN
X-FROM-URL:https://www.bayareascience.org/calendar/index.php?com=details&eID=34101
X-WR-RELCALID:BayAreaScience.org Meeting our Nearest Planetary Neighbors -- and a Glimpse of the Solar System's Ultimate Fate -- with NASA's TESS Mission- Rescheduled 20230603T200000
X-WR-TIMEZONE:America/New_York
X-WR-CALNAME:BayAreaScience.org
BEGIN:VEVENT
URL;VALUE=URI:https://www.bayareascience.org/calendar/index.php?com=detail&eID=34101
DTSTART:20230603T200000
DTEND:20230603T213000
SUMMARY:Meeting our Nearest Planetary Neighbors -- and a Glimpse of the Solar System's Ultimate Fate -- with NASA's TESS Mission- Rescheduled
DESCRIPTION:The past three decades of observational astronomy have led to the discovery of the first known exoplanets\, or planets orbiting stars other than the Sun. Since the first exoplanets were found in...\n______________________________\nThis Event Downloaded From a Helios Calendar Powered Site
LOCATION:San Jose Astronomical Society -  \, \, CA  
CATEGORIES:BayAreaScience.org Events
PRIORITY:0
TRANSP:TRANSPARENT
END:VEVENT
END:VCALENDAR