BEGIN:VCALENDAR
VERSION:2.0
METHOD:PUBLISH
CALSCALE:GREGORIAN
PRODID:-//Refresh Web Development//Helios Calendar//EN
X-FROM-URL:https://www.bayareascience.org/calendar/index.php?com=details&eID=34102
X-WR-RELCALID:BayAreaScience.org Binocular Stargazing at Laguna Seca, North Coyote Valley Open Space Preserve 20230610T213000
X-WR-TIMEZONE:America/New_York
X-WR-CALNAME:BayAreaScience.org
BEGIN:VEVENT
URL;VALUE=URI:https://www.bayareascience.org/calendar/index.php?com=detail&eID=34102
DTSTART:20230610T213000
DTEND:20230610T233000
SUMMARY:Binocular Stargazing at Laguna Seca\, North Coyote Valley Open Space Preserve
DESCRIPTION:The San Jose Astronomical Association (SJAA) is proud to work with the Open Space Authority (OSA) to co-host a public star party at Rancho Canada del Oro (RCDO). This site is just...\n______________________________\nThis Event Downloaded From a Helios Calendar Powered Site
LOCATION:Laguna Seca - TBA \, San Jose\, CA  95141
CATEGORIES:BayAreaScience.org Events
PRIORITY:0
TRANSP:TRANSPARENT
END:VEVENT
END:VCALENDAR