BEGIN:VCALENDAR
VERSION:2.0
METHOD:PUBLISH
CALSCALE:GREGORIAN
PRODID:-//Refresh Web Development//Helios Calendar//EN
X-FROM-URL:https://www.bayareascience.org/calendar/index.php?com=details&eID=34104
X-WR-RELCALID:BayAreaScience.org May Butterfly Walk - Second Section 20230523T150000
X-WR-TIMEZONE:America/New_York
X-WR-CALNAME:BayAreaScience.org
BEGIN:VEVENT
URL;VALUE=URI:https://www.bayareascience.org/calendar/index.php?com=detail&eID=34104
DTSTART:20230523T150000
DTEND:20230523T160000
SUMMARY:May Butterfly Walk - Second Section
DESCRIPTION:Join Sally Levinson\, â€˜caterpillar ladyâ€™\, and Sarab Seth\, â€˜butterfly guy\,â€™ for a guided walk through the Botanical Garden in search of butterflies. Bring binoculars if...\n______________________________\nThis Event Downloaded From a Helios Calendar Powered Site
LOCATION:UC Botanical Garden - 200 Centennial Drive \, Berkeley\, CA  94720
CATEGORIES:BayAreaScience.org Events
PRIORITY:0
TRANSP:TRANSPARENT
END:VEVENT
END:VCALENDAR