BEGIN:VCALENDAR
VERSION:2.0
METHOD:PUBLISH
CALSCALE:GREGORIAN
PRODID:-//Refresh Web Development//Helios Calendar//EN
X-FROM-URL:https://www.bayareascience.org/calendar/index.php?com=details&eID=34107
X-WR-RELCALID:BayAreaScience.org All a buzz... - Livestream 20230608T100000
X-WR-TIMEZONE:America/New_York
X-WR-CALNAME:BayAreaScience.org
BEGIN:VEVENT
URL;VALUE=URI:https://www.bayareascience.org/calendar/index.php?com=detail&eID=34107
DTSTART:20230608T100000
DTEND:20230608T113000
SUMMARY:All a buzz... - Livestream
DESCRIPTION:Join us for a discussion about bees\, viruses\, science illustration\, and communicating about science and more.Youâ€™ve heard of the â€œSave the Beesâ€ movement\, but how are...\n______________________________\nThis Event Downloaded From a Helios Calendar Powered Site
LOCATION:John Muir Laws -  \, \, CA  
CATEGORIES:BayAreaScience.org Events
PRIORITY:0
TRANSP:TRANSPARENT
END:VEVENT
END:VCALENDAR