BEGIN:VCALENDAR
VERSION:2.0
METHOD:PUBLISH
CALSCALE:GREGORIAN
PRODID:-//Refresh Web Development//Helios Calendar//EN
X-FROM-URL:https://www.bayareascience.org/calendar/index.php?com=details&eID=34114
X-WR-RELCALID:BayAreaScience.org A Sign in Space - The Ethics of X 20230612T090000
X-WR-TIMEZONE:America/New_York
X-WR-CALNAME:BayAreaScience.org
BEGIN:VEVENT
URL;VALUE=URI:https://www.bayareascience.org/calendar/index.php?com=detail&eID=34114
DTSTART:20230612T090000
DTEND:20230612T100000
SUMMARY:A Sign in Space - The Ethics of X
DESCRIPTION:A Sign in Space is a multidisciplinary art project conceived by artist Daniela De Paulis. De Paulis is leading a global team to send an encoded message from the European Space Agency (ESA) ExoMars...\n______________________________\nThis Event Downloaded From a Helios Calendar Powered Site
LOCATION:SETI Institute -  \, \, CA  
CATEGORIES:BayAreaScience.org Events
PRIORITY:0
TRANSP:TRANSPARENT
END:VEVENT
END:VCALENDAR