BEGIN:VCALENDAR
VERSION:2.0
METHOD:PUBLISH
CALSCALE:GREGORIAN
PRODID:-//Refresh Web Development//Helios Calendar//EN
X-FROM-URL:https://www.bayareascience.org/calendar/index.php?com=details&eID=34124
X-WR-RELCALID:BayAreaScience.org Tech Topple: Watch The Dominos Fall 20230715T130000
X-WR-TIMEZONE:America/New_York
X-WR-CALNAME:BayAreaScience.org
BEGIN:VEVENT
URL;VALUE=URI:https://www.bayareascience.org/calendar/index.php?com=detail&eID=34124
DTSTART:20230715T130000
DTEND:20230715T130000
SUMMARY:Tech Topple: Watch The Dominos Fall
DESCRIPTION:YouTube sensation Flash Domino and his group of chain reaction masterminds attempt to build a world-record domino topple that will leave you in awe! See their construction in process\, then join...\n______________________________\nThis Event Downloaded From a Helios Calendar Powered Site
LOCATION:The Tech Interactive - 201 South Market St \, San Jose\, CA  95113
CATEGORIES:BayAreaScience.org Events
PRIORITY:0
TRANSP:TRANSPARENT
END:VEVENT
END:VCALENDAR