BEGIN:VCALENDAR
VERSION:2.0
METHOD:PUBLISH
CALSCALE:GREGORIAN
PRODID:-//Refresh Web Development//Helios Calendar//EN
X-FROM-URL:https://www.bayareascience.org/calendar/index.php?com=details&eID=34126
X-WR-RELCALID:BayAreaScience.org First Friday: Lifecycle of the Stars   20230707T180000
X-WR-TIMEZONE:America/New_York
X-WR-CALNAME:BayAreaScience.org
BEGIN:VEVENT
URL;VALUE=URI:https://www.bayareascience.org/calendar/index.php?com=detail&eID=34126
DTSTART:20230707T180000
DTEND:20230707T220000
SUMMARY:First Friday: Lifecycle of the Stars  
DESCRIPTION:Join us for an evening of learning about the stellar processes that have shaped the evolution of galaxies and planetary systems as we explore the birth of stars. \n______________________________\nThis Event Downloaded From a Helios Calendar Powered Site
LOCATION:Chabot Space and Science Center - 10000 Skyline Blvd \, Oakland\, CA USA 94619
CATEGORIES:BayAreaScience.org Events
PRIORITY:0
TRANSP:TRANSPARENT
END:VEVENT
END:VCALENDAR