BEGIN:VCALENDAR
VERSION:2.0
METHOD:PUBLISH
CALSCALE:GREGORIAN
PRODID:-//Refresh Web Development//Helios Calendar//EN
X-FROM-URL:https://www.bayareascience.org/calendar/index.php?com=details&eID=34137
X-WR-RELCALID:BayAreaScience.org Summer Science Fundays - Les Aerielles 20230729T110000
X-WR-TIMEZONE:America/New_York
X-WR-CALNAME:BayAreaScience.org
BEGIN:VEVENT
URL;VALUE=URI:https://www.bayareascience.org/calendar/index.php?com=detail&eID=34137
DTSTART:20230729T110000
DTEND:20230729T140000
SUMMARY:Summer Science Fundays - Les Aerielles
DESCRIPTION:As part of its season of summer programs and exhibits\, The Lawrence Hall of Science will host ten Summer Science Fundays\, each offering family-friendly shows\, hands-on science activities\, and more....\n______________________________\nThis Event Downloaded From a Helios Calendar Powered Site
LOCATION:Lawrence Hall of Science - 1 Centennial Drive \, Berkeley\, CA USA 94720
CATEGORIES:BayAreaScience.org Events
PRIORITY:0
TRANSP:TRANSPARENT
END:VEVENT
END:VCALENDAR