BEGIN:VCALENDAR
VERSION:2.0
METHOD:PUBLISH
CALSCALE:GREGORIAN
PRODID:-//Refresh Web Development//Helios Calendar//EN
X-FROM-URL:https://www.bayareascience.org/calendar/index.php?com=details&eID=34140
X-WR-RELCALID:BayAreaScience.org Sunset Science: Starlight Astronomy  20230728T180000
X-WR-TIMEZONE:America/New_York
X-WR-CALNAME:BayAreaScience.org
BEGIN:VEVENT
URL;VALUE=URI:https://www.bayareascience.org/calendar/index.php?com=detail&eID=34140
DTSTART:20230728T180000
DTEND:20230728T210000
SUMMARY:Sunset Science: Starlight Astronomy 
DESCRIPTION:What does a starâ€™s color tell us about the star? What do we learn by studying a starâ€™s spectrum? How fast does a starâ€™s light travel through space?...\n______________________________\nThis Event Downloaded From a Helios Calendar Powered Site
LOCATION:Chabot Space and Science Center - 10000 Skyline Blvd \, Oakland\, CA USA 94619
CATEGORIES:BayAreaScience.org Events
PRIORITY:0
TRANSP:TRANSPARENT
END:VEVENT
END:VCALENDAR