BEGIN:VCALENDAR
VERSION:2.0
METHOD:PUBLISH
CALSCALE:GREGORIAN
PRODID:-//Refresh Web Development//Helios Calendar//EN
X-FROM-URL:https://www.bayareascience.org/calendar/index.php?com=details&eID=34142
X-WR-RELCALID:BayAreaScience.org Perseid Meteor Shower - SOLD OUT 20230812T234500
X-WR-TIMEZONE:America/New_York
X-WR-CALNAME:BayAreaScience.org
BEGIN:VEVENT
URL;VALUE=URI:https://www.bayareascience.org/calendar/index.php?com=detail&eID=34142
DTSTART:20230812T234500
DTEND:20230813T030000
SUMMARY:Perseid Meteor Shower - SOLD OUT
DESCRIPTION:Join Chabot astronomers for a watch party of one of most abundant meteor showers of the year\, the Perseids. Every August\, the Earth passes through the debris of the giant...\n______________________________\nThis Event Downloaded From a Helios Calendar Powered Site
LOCATION:Chabot Space and Science Center - 10000 Skyline Blvd \, Oakland\, CA USA 94619
CATEGORIES:BayAreaScience.org Events
PRIORITY:0
TRANSP:TRANSPARENT
END:VEVENT
END:VCALENDAR