BEGIN:VCALENDAR
VERSION:2.0
METHOD:PUBLISH
CALSCALE:GREGORIAN
PRODID:-//Refresh Web Development//Helios Calendar//EN
X-FROM-URL:https://www.bayareascience.org/calendar/index.php?com=details&eID=34143
X-WR-RELCALID:BayAreaScience.org Sunset Science: Stars Across Cultures ft Native Skies Star Stories  20230825T180000
X-WR-TIMEZONE:America/New_York
X-WR-CALNAME:BayAreaScience.org
BEGIN:VEVENT
URL;VALUE=URI:https://www.bayareascience.org/calendar/index.php?com=detail&eID=34143
DTSTART:20230825T180000
DTEND:20230825T210000
SUMMARY:Sunset Science: Stars Across Cultures ft Native Skies Star Stories 
DESCRIPTION:The night sky has had a major impact on humans throughout our existence. Often different cultures and countries adopt their own interpretation of the night sky that could...\n______________________________\nThis Event Downloaded From a Helios Calendar Powered Site
LOCATION:Chabot Space and Science Center - 10000 Skyline Blvd \, Oakland\, CA USA 94619
CATEGORIES:BayAreaScience.org Events
PRIORITY:0
TRANSP:TRANSPARENT
END:VEVENT
END:VCALENDAR