BEGIN:VCALENDAR
VERSION:2.0
METHOD:PUBLISH
CALSCALE:GREGORIAN
PRODID:-//Refresh Web Development//Helios Calendar//EN
X-FROM-URL:https://www.bayareascience.org/calendar/index.php?com=details&eID=34145
X-WR-RELCALID:BayAreaScience.org First Fridays: Stellar Ending, Death of Stars   20230901T180000
X-WR-TIMEZONE:America/New_York
X-WR-CALNAME:BayAreaScience.org
BEGIN:VEVENT
URL;VALUE=URI:https://www.bayareascience.org/calendar/index.php?com=detail&eID=34145
DTSTART:20230901T180000
DTEND:20230901T220000
SUMMARY:First Fridays: Stellar Ending\, Death of Stars  
DESCRIPTION:Just like people\, every star has a distinct life cycle\, but not every starâ€™s story ends the same.Â  Head to Chabot Space & Science Centerâ€™s First...\n______________________________\nThis Event Downloaded From a Helios Calendar Powered Site
LOCATION:Chabot Space and Science Center - 10000 Skyline Blvd \, Oakland\, CA USA 94619
CATEGORIES:BayAreaScience.org Events
PRIORITY:0
TRANSP:TRANSPARENT
END:VEVENT
END:VCALENDAR