BEGIN:VCALENDAR
VERSION:2.0
METHOD:PUBLISH
CALSCALE:GREGORIAN
PRODID:-//Refresh Web Development//Helios Calendar//EN
X-FROM-URL:https://www.bayareascience.org/calendar/index.php?com=details&eID=34152
X-WR-RELCALID:BayAreaScience.org A Global Health Conversation with Chris Beyrer, epidemiologist and renowned human rights physician 20230531T170000
X-WR-TIMEZONE:America/New_York
X-WR-CALNAME:BayAreaScience.org
BEGIN:VEVENT
URL;VALUE=URI:https://www.bayareascience.org/calendar/index.php?com=detail&eID=34152
DTSTART:20230531T170000
DTEND:20230531T183000
SUMMARY:A Global Health Conversation with Chris Beyrer\, epidemiologist and renowned human rights physician
DESCRIPTION:\n______________________________\nThis Event Downloaded From a Helios Calendar Powered Site
LOCATION:Li Ka Shing Center for Learning and Knowledge - 291 Campus Dr Stanford University\, Stanford\, CA  94305
CATEGORIES:BayAreaScience.org Events
PRIORITY:0
TRANSP:TRANSPARENT
END:VEVENT
END:VCALENDAR