BEGIN:VCALENDAR
VERSION:2.0
METHOD:PUBLISH
CALSCALE:GREGORIAN
PRODID:-//Refresh Web Development//Helios Calendar//EN
X-FROM-URL:https://www.bayareascience.org/calendar/index.php?com=details&eID=34156
X-WR-RELCALID:BayAreaScience.org BayCon2023: Science Fiction Convention 20230702T100000
X-WR-TIMEZONE:America/New_York
X-WR-CALNAME:BayAreaScience.org
BEGIN:VEVENT
URL;VALUE=URI:https://www.bayareascience.org/calendar/index.php?com=detail&eID=34156
DTSTART:20230702T100000
DTEND:20230702T200000
SUMMARY:BayCon2023: Science Fiction Convention
DESCRIPTION:BayCon is a convention about science fiction\, science\, writing\, and more.Â  It will take place July 1-4.Astronomer Andrew Fraknoi will be speaking on the first images and results from...\n______________________________\nThis Event Downloaded From a Helios Calendar Powered Site
LOCATION:Santa Clara Marriott - 2700 Mission College Blvd. \, Santa Clara\, CA USA 95054
CATEGORIES:BayAreaScience.org Events
PRIORITY:0
TRANSP:TRANSPARENT
END:VEVENT
END:VCALENDAR