BEGIN:VCALENDAR
VERSION:2.0
METHOD:PUBLISH
CALSCALE:GREGORIAN
PRODID:-//Refresh Web Development//Helios Calendar//EN
X-FROM-URL:https://www.bayareascience.org/calendar/index.php?com=details&eID=34159
X-WR-RELCALID:BayAreaScience.org Literature as Skeptical Inquiry: How Shock in Don Quixote Teaches Us to Doubt 20230601T121500
X-WR-TIMEZONE:America/New_York
X-WR-CALNAME:BayAreaScience.org
BEGIN:VEVENT
URL;VALUE=URI:https://www.bayareascience.org/calendar/index.php?com=detail&eID=34159
DTSTART:20230601T121500
DTEND:20230601T130500
SUMMARY:Literature as Skeptical Inquiry: How Shock in Don Quixote Teaches Us to Doubt
DESCRIPTION:\n______________________________\nThis Event Downloaded From a Helios Calendar Powered Site
LOCATION:Florence Moore Hall\, Paloma Lounge - Stanford University 436 Mayfield Ave\, Stanford\, CA  94305
CATEGORIES:BayAreaScience.org Events
PRIORITY:0
TRANSP:TRANSPARENT
END:VEVENT
END:VCALENDAR