BEGIN:VCALENDAR
VERSION:2.0
METHOD:PUBLISH
CALSCALE:GREGORIAN
PRODID:-//Refresh Web Development//Helios Calendar//EN
X-FROM-URL:https://www.bayareascience.org/calendar/index.php?com=details&eID=34160
X-WR-RELCALID:BayAreaScience.org The Eastern Edge of the Indian Plate and Mantle Flow Across Southeast Asia 20230601T120000
X-WR-TIMEZONE:America/New_York
X-WR-CALNAME:BayAreaScience.org
BEGIN:VEVENT
URL;VALUE=URI:https://www.bayareascience.org/calendar/index.php?com=detail&eID=34160
DTSTART:20230601T120000
DTEND:20230601T130000
SUMMARY:The Eastern Edge of the Indian Plate and Mantle Flow Across Southeast Asia
DESCRIPTION:One of the unique aspects of the Tibet plateau evolution is the apparent coherence of deformation in the mantle and crust across most of the eastern part of the plateau and around the Eastern Himalayan...\n______________________________\nThis Event Downloaded From a Helios Calendar Powered Site
LOCATION:Mitchell Earth Sciences Building (04-560) - 397 Panama Mall Stanford University\, Stanford\, CA  94305
CATEGORIES:BayAreaScience.org Events
PRIORITY:0
TRANSP:TRANSPARENT
END:VEVENT
END:VCALENDAR