BEGIN:VCALENDAR
VERSION:2.0
METHOD:PUBLISH
CALSCALE:GREGORIAN
PRODID:-//Refresh Web Development//Helios Calendar//EN
X-FROM-URL:https://www.bayareascience.org/calendar/index.php?com=details&eID=34161
X-WR-RELCALID:BayAreaScience.org Stewardship Saturday: Exploring the Bay Shore with Cafe Ohlone 20230729T090000
X-WR-TIMEZONE:America/New_York
X-WR-CALNAME:BayAreaScience.org
BEGIN:VEVENT
URL;VALUE=URI:https://www.bayareascience.org/calendar/index.php?com=detail&eID=34161
DTSTART:20230729T090000
DTEND:20230729T110000
SUMMARY:Stewardship Saturday: Exploring the Bay Shore with Cafe Ohlone
DESCRIPTION:This free program for high school students features rotating themes exploring the science of the Center.In collaboration with Cafe Ohlone and The...\n______________________________\nThis Event Downloaded From a Helios Calendar Powered Site
LOCATION:Coyote Hills Parking Lot - 8000 Patterson Ranch Rd \, Fremont\, CA  94555
CATEGORIES:BayAreaScience.org Events
PRIORITY:0
TRANSP:TRANSPARENT
END:VEVENT
END:VCALENDAR