BEGIN:VCALENDAR
VERSION:2.0
METHOD:PUBLISH
CALSCALE:GREGORIAN
PRODID:-//Refresh Web Development//Helios Calendar//EN
X-FROM-URL:https://www.bayareascience.org/calendar/index.php?com=details&eID=34164
X-WR-RELCALID:BayAreaScience.org Next Generation Topographic Mapping - Map what you want, where you want, when you want with topoBuilder - Livestream 20230629T180000
X-WR-TIMEZONE:America/New_York
X-WR-CALNAME:BayAreaScience.org
BEGIN:VEVENT
URL;VALUE=URI:https://www.bayareascience.org/calendar/index.php?com=detail&eID=34164
DTSTART:20230629T180000
DTEND:20230629T180000
SUMMARY:Next Generation Topographic Mapping - Map what you want\, where you want\, when you want with topoBuilder - Livestream
DESCRIPTION:Learn About:The history of topographic mapping at the USGSAdvancements in mapping technologyHow to create your own custom on-demand topographic maps (no special skills...\n______________________________\nThis Event Downloaded From a Helios Calendar Powered Site
LOCATION:US Geological Survey Public Lecture Series -  \, \, CA  
CATEGORIES:BayAreaScience.org Events
PRIORITY:0
TRANSP:TRANSPARENT
END:VEVENT
END:VCALENDAR